{"text_format":"1","workbook":"xlsx","n_sheets":7,"sheets":["LİSTE","T","M","HB","O","MZ","G1"],"not_rendered":{"charts":0,"images":3,"macros":1,"external_links":0,"defined_names":14,"comments":0,"pivot_tables":0},"unopened":[],"bounds":{"document_bytes":16777216,"sheet_cells":100000,"rows_first":2000,"rows_last":500,"rows_between":2000,"halvings":0,"cell_chars":16384,"cell_head_chars":4096},"cells_cut":0,"cells_raw":0,"read":"whole","date_system":"1900"}

{"sheet":"LİSTE","index":0,"n_rows":34,"n_cols":4,"rows_kept":34,"cut":false,"hidden":false,"merged":[[3,2,3,3],[1,3,1,6]]}
["ÖĞRENCİ NO","ADI SOYADI"]
[1,null,"Eğitim Öğretim Yılı","2023-2024 EĞİTİM ÖĞRETİM YILI"]
[2,null,"OKULU:"]
[3]
[4,null,"SINIF ÖĞRETMENİ:"]
[5,null,"SINIF:"]
[6]
[7]
[8,null,"TÜRKÇE FORM","MÜZİK FORM"]
[9,null,"MATEMATİK FORM","BEDEN EĞİTİMİ VE OYUN FORM"]
[10,null,"HAYAT BİLGİSİ FORM","GÖRSEL SANATLAR FORM"]
[11]
[12]
[13]
[14]
[15]
[16]
[17]
[18]
[19]
[20]
[21]
[22]
[23]
[24]
[25]
[26]
[27]
[28]
[29]
[30]
[31]
[32]
[33]

{"sheet":"T","index":1,"n_rows":47,"n_cols":38,"rows_kept":47,"cut":false,"hidden":false,"merged":[[46,25,46,34],[42,1,43,1],[44,2,44,9],[44,10,44,13],[45,26,45,33]]}
[null,"BU SATIRDAN ÖĞRENCİNİN NOTUNU TAKİP EDEBİLİRSİNİZ è",{"$f":"C44","v":"Çok İyi"},"Çok İyi","Çok İyi","Çok İyi","Çok İyi","Çok İyi",{"$f":"I44","v":"Çok İyi"},"Çok İyi","Çok İyi","Çok İyi","Çok İyi","Çok İyi","Çok İyi","Çok İyi","Çok İyi","Çok İyi","Çok İyi","Çok İyi","Çok İyi","Çok İyi","Çok İyi","Çok İyi","Çok İyi","Çok İyi","Çok İyi","Çok İyi","Çok İyi","Çok İyi","Çok İyi","Çok İyi","Çok İyi","Çok İyi","Çok İyi","Çok İyi","Çok İyi","Çok İyi"]
[null,{"$f":"CONCATENATE(\" \",LİSTE!D2,\" \",LİSTE!D3,\" \",\"1.DÖNEM\",\" \",LİSTE!D6,\" \",\"SINIFI\",\" \",\"TÜRKÇE DERSİ KAZANIM DEĞERLENDİRME FORMU \")","v":" 2023-2024 EĞİTİM ÖĞRETİM YILI  1.DÖNEM  SINIFI TÜRKÇE DERSİ KAZANIM DEĞERLENDİRME FORMU "},{"$f":"IF(LİSTE!$B2=0,\"\",LİSTE!$B2)","v":""},{"$f":"IF(LİSTE!$B3=0,\"\",LİSTE!$B3)","v":""},{"$f":"IF(LİSTE!$B4=0,\"\",LİSTE!$B4)","v":""},{"$f":"IF(LİSTE!$B5=0,\"\",LİSTE!$B5)","v":""},{"$f":"IF(LİSTE!$B6=0,\"\",LİSTE!$B6)","v":""},{"$f":"IF(LİSTE!$B7=0,\"\",LİSTE!$B7)","v":""},{"$f":"IF(LİSTE!$B8=0,\"\",LİSTE!$B8)","v":""},{"$f":"IF(LİSTE!$B9=0,\"\",LİSTE!$B9)","v":""},{"$f":"IF(LİSTE!$B10=0,\"\",LİSTE!$B10)","v":""},{"$f":"IF(LİSTE!$B11=0,\"\",LİSTE!$B11)","v":""},{"$f":"IF(LİSTE!$B12=0,\"\",LİSTE!$B12)","v":""},{"$f":"IF(LİSTE!$B13=0,\"\",LİSTE!$B13)","v":""},{"$f":"IF(LİSTE!$B14=0,\"\",LİSTE!$B14)","v":""},{"$f":"IF(LİSTE!$B15=0,\"\",LİSTE!$B15)","v":""},{"$f":"IF(LİSTE!$B16=0,\"\",LİSTE!$B16)","v":""},{"$f":"IF(LİSTE!$B17=0,\"\",LİSTE!$B17)","v":""},{"$f":"IF(LİSTE!$B18=0,\"\",LİSTE!$B18)","v":""},{"$f":"IF(LİSTE!$B19=0,\"\",LİSTE!$B19)","v":""},{"$f":"IF(LİSTE!$B20=0,\"\",LİSTE!$B20)","v":""},{"$f":"IF(LİSTE!$B21=0,\"\",LİSTE!$B21)","v":""},{"$f":"IF(LİSTE!$B22=0,\"\",LİSTE!$B22)","v":""},{"$f":"IF(LİSTE!$B23=0,\"\",LİSTE!$B23)","v":""},{"$f":"IF(LİSTE!$B24=0,\"\",LİSTE!$B24)","v":""},{"$f":"IF(LİSTE!$B25=0,\"\",LİSTE!$B25)","v":""},{"$f":"IF(LİSTE!$B26=0,\"\",LİSTE!$B26)","v":""},{"$f":"IF(LİSTE!$B27=0,\"\",LİSTE!$B27)","v":""},{"$f":"IF(LİSTE!$B28=0,\"\",LİSTE!$B28)","v":""},{"$f":"IF(LİSTE!$B29=0,\"\",LİSTE!$B29)","v":""},{"$f":"IF(LİSTE!$B30=0,\"\",LİSTE!$B30)","v":""},{"$f":"IF(LİSTE!$B31=0,\"\",LİSTE!$B31)","v":""},{"$f":"IF(LİSTE!$B32=0,\"\",LİSTE!$B32)","v":""},{"$f":"IF(LİSTE!$B33=0,\"\",LİSTE!$B33)","v":""},{"$f":"IF(LİSTE!$B34=0,\"\",LİSTE!$B34)","v":""},{"$f":"IF(LİSTE!$B35=0,\"\",LİSTE!$B35)","v":""},{"$f":"IF(LİSTE!$B36=0,\"\",LİSTE!$B36)","v":""},{"$f":"IF(LİSTE!$B37=0,\"\",LİSTE!$B37)","v":""}]
[null,"KAZANIMLAR",{"$f":"IF(LİSTE!$A2=0,\"\",LİSTE!$A2)","v":1},{"$f":"IF(LİSTE!$A3=0,\"\",LİSTE!$A3)","v":2},{"$f":"IF(LİSTE!$A4=0,\"\",LİSTE!$A4)","v":3},{"$f":"IF(LİSTE!$A5=0,\"\",LİSTE!$A5)","v":4},{"$f":"IF(LİSTE!$A6=0,\"\",LİSTE!$A6)","v":5},{"$f":"IF(LİSTE!$A7=0,\"\",LİSTE!$A7)","v":6},{"$f":"IF(LİSTE!$A8=0,\"\",LİSTE!$A8)","v":7},{"$f":"IF(LİSTE!$A9=0,\"\",LİSTE!$A9)","v":8},{"$f":"IF(LİSTE!$A10=0,\"\",LİSTE!$A10)","v":9},{"$f":"IF(LİSTE!$A11=0,\"\",LİSTE!$A11)","v":10},{"$f":"IF(LİSTE!$A12=0,\"\",LİSTE!$A12)","v":11},{"$f":"IF(LİSTE!$A13=0,\"\",LİSTE!$A13)","v":12},{"$f":"IF(LİSTE!$A14=0,\"\",LİSTE!$A14)","v":13},{"$f":"IF(LİSTE!$A15=0,\"\",LİSTE!$A15)","v":14},{"$f":"IF(LİSTE!$A16=0,\"\",LİSTE!$A16)","v":15},{"$f":"IF(LİSTE!$A17=0,\"\",LİSTE!$A17)","v":16},{"$f":"IF(LİSTE!$A18=0,\"\",LİSTE!$A18)","v":17},{"$f":"IF(LİSTE!$A19=0,\"\",LİSTE!$A19)","v":18},{"$f":"IF(LİSTE!$A20=0,\"\",LİSTE!$A20)","v":19},{"$f":"IF(LİSTE!$A21=0,\"\",LİSTE!$A21)","v":20},{"$f":"IF(LİSTE!$A22=0,\"\",LİSTE!$A22)","v":21},{"$f":"IF(LİSTE!$A23=0,\"\",LİSTE!$A23)","v":22},{"$f":"IF(LİSTE!$A24=0,\"\",LİSTE!$A24)","v":23},{"$f":"IF(LİSTE!$A25=0,\"\",LİSTE!$A25)","v":24},{"$f":"IF(LİSTE!$A26=0,\"\",LİSTE!$A26)","v":25},{"$f":"IF(LİSTE!$A27=0,\"\",LİSTE!$A27)","v":26},{"$f":"IF(LİSTE!$A28=0,\"\",LİSTE!$A28)","v":27},{"$f":"IF(LİSTE!$A29=0,\"\",LİSTE!$A29)","v":28},{"$f":"IF(LİSTE!$A30=0,\"\",LİSTE!$A30)","v":29},{"$f":"IF(LİSTE!$A31=0,\"\",LİSTE!$A31)","v":30},{"$f":"IF(LİSTE!$A32=0,\"\",LİSTE!$A32)","v":31},{"$f":"IF(LİSTE!$A33=0,\"\",LİSTE!$A33)","v":32},{"$f":"IF(LİSTE!$A34=0,\"\",LİSTE!$A34)","v":33},{"$f":"IF(LİSTE!$A35=0,\"\",LİSTE!$A35)","v":""},{"$f":"IF(LİSTE!$A36=0,\"\",LİSTE!$A36)","v":""},{"$f":"IF(LİSTE!$A37=0,\"\",LİSTE!$A37)","v":""}]
[null,"Duyduğu sesleri taklit eder.",3,2,3,3,3,3,3,3,3,3,3,3,3,3,3,3,3,3,3,3,3,3,3,3,3,3,3,3,3,3,3,3,3,3,3,3]
[null,"Seslere karşılık gelen harfleri ayırt eder.",3,3,3,3,3,3,3,3,3,3,3,3,3,3,3,3,3,3,3,3,3,3,3,3,3,3,3,3,3,3,3,3,3,3,3,3]
[null,"Görselden/görsellerden hareketle dinleyeceği/izleyeceği metin hakkında tahminde bulunur.",3,3,3,3,3,3,3,3,3,3,3,3,3,3,3,3,3,3,3,3,3,3,3,3,3,3,3,3,3,3,3,3,3,3,3,3]
[null,"Dinlediklerinde/izlediklerinde geçen olayların gelişimi hakkında tahminde bulunur.",3,3,3,3,3,3,3,3,3,3,3,3,3,3,3,3,3,3,3,3,3,3,3,3,3,3,3,3,3,3,3,3,3,3,3,3]
[null,"Dinlediği/izlediği metni anlatır.",3,3,3,3,3,3,3,3,3,3,3,3,3,3,3,3,3,3,3,3,3,3,3,3,3,3,3,3,3,3,3,3,3,3,3,3]
[null,"Dinlediklerinin/izlediklerinin konusunu belirler.",3,3,3,3,3,3,3,3,3,3,3,3,3,3,3,3,3,3,3,3,3,3,3,3,3,3,3,3,3,3,3,3,3,3,3,3]
[null,"Dinlediklerine/izlediklerine yönelik sorulara cevap verir.",3,3,3,3,3,3,3,3,3,3,3,3,3,3,3,3,3,3,3,3,3,3,3,3,3,3,3,3,3,3,3,3,3,3,3,3]
[null,"Sözlü yönergeleri uygular.",3,3,3,3,3,3,3,3,3,3,3,3,3,3,3,3,3,3,3,3,3,3,3,3,3,3,3,3,3,3,3,3,3,3,3,3]
[null,"Dinleme stratejilerini uygular.",3,3,3,3,3,3,3,3,3,3,3,3,3,3,3,3,3,3,3,3,3,3,3,3,3,3,3,3,3,3,3,3,3,3,3,3]
[null,"Kelimeleri anlamlarına uygun kullanır.",3,3,3,3,3,3,3,3,3,3,3,3,3,3,3,3,3,3,3,3,3,3,3,3,3,3,3,3,3,3,3,3,3,3,3,3]
[null,"Çerçevesi belirli bir konu hakkında konuşur.",3,3,3,3,3,3,3,3,3,3,3,3,3,3,3,3,3,3,3,3,3,3,3,3,3,3,3,3,3,3,3,3,3,3,3,3]
[null,"Konuşma stratejilerini uygular.",3,3,3,3,3,3,3,3,3,3,3,3,3,3,3,3,3,3,3,3,3,3,3,3,3,3,3,3,3,3,3,3,3,3,3,3]
[null,"Harfi tanır ve seslendirir.",3,3,3,3,3,3,3,3,3,3,3,3,3,3,3,3,3,3,3,3,3,3,3,3,3,3,3,3,3,3,3,3,3,3,3,3]
[null,"Hece ve kelimeleri okur.",3,3,3,3,3,3,3,3,3,3,3,3,3,3,3,3,3,3,3,3,3,3,3,3,3,3,3,3,3,3,3,3,3,3,3,3]
[null,"Basit ve kısa cümleleri okur.",3,3,3,3,3,3,3,3,3,3,3,3,3,3,3,3,3,3,3,3,3,3,3,3,3,3,3,3,3,3,3,3,3,3,3,3]
[null,"Kısa metinleri okur.",3,3,3,3,3,3,3,3,3,3,3,3,3,3,3,3,3,3,3,3,3,3,3,3,3,3,3,3,3,3,3,3,3,3,3,3]
[null,"Noktalama işaretlerine dikkat ederek okur.",3,3,3,3,3,3,3,3,3,3,3,3,3,3,3,3,3,3,3,3,3,3,3,3,3,3,3,3,3,3,3,3,3,3,3,3]
[null,"Vurgu, tonlama ve telaffuza dikkat ederek okur.",3,3,3,3,3,3,3,3,3,3,3,3,3,3,3,3,3,3,3,3,3,3,3,3,3,3,3,3,3,3,3,3,3,3,3,3]
[null,"Şiir okur.",3,3,3,3,3,3,3,3,3,3,3,3,3,3,3,3,3,3,3,3,3,3,3,3,3,3,3,3,3,3,3,3,3,3,3,3]
[null,"Görsellerden hareketle kelimeleri ve anlamlarını tahmin eder.",3,3,3,3,3,3,3,3,3,3,3,3,3,3,3,3,3,3,3,3,3,3,3,3,3,3,3,3,3,3,3,3,3,3,3,3]
[null,"Okuma stratejilerini uygular.",3,3,3,3,3,3,3,3,3,3,3,3,3,3,3,3,3,3,3,3,3,3,3,3,3,3,3,3,3,3,3,3,3,3,3,3]
[null,"Görsellerle ilgili soruları cevaplar.",3,3,3,3,3,3,3,3,3,3,3,3,3,3,3,3,3,3,3,3,3,3,3,3,3,3,3,3,3,3,3,3,3,3,3,3]
[null,"Görsellerden hareketle okuyacağı metnin içeriğini tahmin eder.",3,3,3,3,3,3,3,3,3,3,3,3,3,3,3,3,3,3,3,3,3,3,3,3,3,3,3,3,3,3,3,3,3,3,3,3]
[null,"Metinle ilgili soruları cevaplar.",3,3,3,3,3,3,3,3,3,3,3,3,3,3,3,3,3,3,3,3,3,3,3,3,3,3,3,3,3,3,3,3,3,3,3,3]
[null,"Okuduklarını ana hatlarıyla anlatır.",3,3,3,3,3,3,3,3,3,3,3,3,3,3,3,3,3,3,3,3,3,3,3,3,3,3,3,3,3,3,3,3,3,3,3,3]
[null,"Metnin konusunu belirler.",3,3,3,3,3,3,3,3,3,3,3,3,3,3,3,3,3,3,3,3,3,3,3,3,3,3,3,3,3,3,3,3,3,3,3,3]
[null,"Metnin içeriğine uygun başlık/başlıklar belirler.",3,3,3,3,3,3,3,3,3,3,3,3,3,3,3,3,3,3,3,3,3,3,3,3,3,3,3,3,3,3,3,3,3,3,3,3]
[null,"Boyama ve çizgi çalışmaları yapar.",3,3,3,3,3,3,3,3,3,3,3,3,3,3,3,3,3,3,3,3,3,3,3,3,3,3,3,3,3,3,3,3,3,3,3,3]
[null,"Harfleri tekniğine uygun yazar.",3,3,3,3,3,3,3,3,3,3,3,3,3,3,3,3,3,3,3,3,3,3,3,3,3,3,3,3,3,3,3,3,3,3,3,3]
[null,"Hece ve kelimeler yazar.",3,3,3,3,3,3,3,3,3,3,3,3,3,3,3,3,3,3,3,3,3,3,3,3,3,3,3,3,3,3,3,3,3,3,3,3]
[null,"Rakamları tekniğine uygun yazar.",3,3,3,3,3,3,3,3,3,3,3,3,3,3,3,3,3,3,3,3,3,3,3,3,3,3,3,3,3,3,3,3,3,3,3,3]
[null,"Anlamlı ve kurallı cümleler yazar.",3,3,3,3,3,3,3,3,3,3,3,3,3,3,3,3,3,3,3,3,3,3,3,3,3,3,3,3,3,3,3,3,3,3,3,3]
[null,"Görsellerle ilgili kelime ve cümleler yazar.",3,3,3,3,3,3,3,3,3,3,3,3,3,3,3,3,3,3,3,3,3,3,3,3,3,3,3,3,3,3,3,3,3,3,3,3]
[null,"Harfler, kelimeler ve cümleler arasında uygun boşluklar bırakır.",3,3,3,3,3,3,3,3,3,3,3,3,3,3,3,3,3,3,3,3,3,3,3,3,3,3,3,3,3,3,3,3,3,3,3,3]
[null,"Büyük harfleri ve noktalama işaretlerini uygun şekilde kullanır.",3,3,3,3,3,3,3,3,3,3,3,3,3,3,3,3,3,3,3,3,3,3,3,3,3,3,3,3,3,3,3,3,3,3,3,3]
[null,"Yazılarını görsel unsurlarla destekler.",3,3,3,3,3,3,3,3,3,3,3,3,3,3,3,3,3,3,3,3,3,3,3,3,3,3,3,3,3,3,3,3,3,3,3,3]
[null,"Yazdıklarını gözden geçirir.",3,3,3,3,3,3,3,3,3,3,3,3,3,3,3,3,3,3,3,3,3,3,3,3,3,3,3,3,3,3,3,3,3,3,3,3]
[null,"Yazma çalışmaları yapar.",3,3,3,3,3,3,3,3,3,3,3,3,3,3,3,3,3,3,3,3,3,3,3,3,3,3,3,3,3,3,3,3,3,3,3,3]
[null,"Yazma stratejilerini uygular.",3,3,3,3,3,3,3,3,3,3,3,3,3,3,3,3,3,3,3,3,3,3,3,3,3,3,3,3,3,3,3,3,3,3,3,3]
[null,"SONUÇ",{"$f":"IFERROR(ROUND(AVERAGE(C4:C42),0),\"\")","v":3},3,3,3,3,3,3,3,3,3,3,3,3,3,3,3,3,3,3,3,3,3,3,3,3,3,3,3,3,3,3,3,3,3,3,3]
[null,null,{"$f":"IF(C43=\"\",\"\",IF(C43<1.5,\"Geliştirilmeli\",IF(C43>2.44,\"Çok İyi\",\"İyi\")))","v":"Çok İyi"},{"$f":"IF(D43=\"\",\"\",IF(D43<1.5,\"Geliştirilmeli\",IF(D43>2.44,\"Çok İyi\",\"İyi\")))","v":"Çok İyi"},"Çok İyi","Çok İyi","Çok İyi","Çok İyi","Çok İyi","Çok İyi","Çok İyi","Çok İyi","Çok İyi","Çok İyi","Çok İyi","Çok İyi","Çok İyi","Çok İyi","Çok İyi","Çok İyi","Çok İyi","Çok İyi","Çok İyi","Çok İyi","Çok İyi","Çok İyi","Çok İyi","Çok İyi","Çok İyi","Çok İyi","Çok İyi","Çok İyi","Çok İyi","Çok İyi","Çok İyi","Çok İyi","Çok İyi","Çok İyi"]
[]
[null,null,null,null,null,null,null,null,null,null,null,null,null,null,null,null,null,null,null,null,null,null,null,null,null,null,{"$f":"LİSTE!D5","v":0}]
[null,null,null,null,null,null,null,null,null,null,null,null,null,null,null,null,null,null,null,null,null,null,null,null,null,{"$f":"CONCATENATE(LİSTE!D6,\" \",\"SINIF ÖĞRETMENİ\")","v":" SINIF ÖĞRETMENİ"}]

{"sheet":"M","index":2,"n_rows":24,"n_cols":38,"rows_kept":24,"cut":false,"hidden":false,"merged":[[23,25,23,31],[19,1,20,1],[21,2,21,9],[21,10,21,13],[22,26,22,30]]}
[null,"BU SATIRDAN ÖĞRENCİNİN NOTUNU TAKİP EDEBİLİRSİNİZ è",{"$f":"C21","v":"Çok İyi"},"Çok İyi","Çok İyi","Çok İyi","Çok İyi","Çok İyi","Çok İyi","Çok İyi","Çok İyi","Çok İyi","Çok İyi","Çok İyi","Çok İyi","Çok İyi","Çok İyi","Çok İyi","Çok İyi","Çok İyi","Çok İyi","Çok İyi","Çok İyi","Çok İyi","Çok İyi","Çok İyi","Çok İyi","Çok İyi","Çok İyi","Çok İyi","Çok İyi","Çok İyi","Çok İyi","Çok İyi","Çok İyi","Çok İyi","Çok İyi","Çok İyi"]
[null,{"$f":"CONCATENATE(\" \",LİSTE!D2,\" \",LİSTE!D3,\" \",\"1.DÖNEM\",\" \",LİSTE!D6,\" \",\"SINIFI\",\" \",\"MATEMATİK DERSİ KAZANIM DEĞERLENDİRME FORMU \")","v":" 2023-2024 EĞİTİM ÖĞRETİM YILI  1.DÖNEM  SINIFI MATEMATİK DERSİ KAZANIM DEĞERLENDİRME FORMU "},{"$f":"IF(LİSTE!$B2=0,\"\",LİSTE!$B2)","v":""},{"$f":"IF(LİSTE!$B3=0,\"\",LİSTE!$B3)","v":""},{"$f":"IF(LİSTE!$B4=0,\"\",LİSTE!$B4)","v":""},{"$f":"IF(LİSTE!$B5=0,\"\",LİSTE!$B5)","v":""},{"$f":"IF(LİSTE!$B6=0,\"\",LİSTE!$B6)","v":""},{"$f":"IF(LİSTE!$B7=0,\"\",LİSTE!$B7)","v":""},{"$f":"IF(LİSTE!$B8=0,\"\",LİSTE!$B8)","v":""},{"$f":"IF(LİSTE!$B9=0,\"\",LİSTE!$B9)","v":""},{"$f":"IF(LİSTE!$B10=0,\"\",LİSTE!$B10)","v":""},{"$f":"IF(LİSTE!$B11=0,\"\",LİSTE!$B11)","v":""},{"$f":"IF(LİSTE!$B12=0,\"\",LİSTE!$B12)","v":""},{"$f":"IF(LİSTE!$B13=0,\"\",LİSTE!$B13)","v":""},{"$f":"IF(LİSTE!$B14=0,\"\",LİSTE!$B14)","v":""},{"$f":"IF(LİSTE!$B15=0,\"\",LİSTE!$B15)","v":""},{"$f":"IF(LİSTE!$B16=0,\"\",LİSTE!$B16)","v":""},{"$f":"IF(LİSTE!$B17=0,\"\",LİSTE!$B17)","v":""},{"$f":"IF(LİSTE!$B18=0,\"\",LİSTE!$B18)","v":""},{"$f":"IF(LİSTE!$B19=0,\"\",LİSTE!$B19)","v":""},{"$f":"IF(LİSTE!$B20=0,\"\",LİSTE!$B20)","v":""},{"$f":"IF(LİSTE!$B21=0,\"\",LİSTE!$B21)","v":""},{"$f":"IF(LİSTE!$B22=0,\"\",LİSTE!$B22)","v":""},{"$f":"IF(LİSTE!$B23=0,\"\",LİSTE!$B23)","v":""},{"$f":"IF(LİSTE!$B24=0,\"\",LİSTE!$B24)","v":""},{"$f":"IF(LİSTE!$B25=0,\"\",LİSTE!$B25)","v":""},{"$f":"IF(LİSTE!$B26=0,\"\",LİSTE!$B26)","v":""},{"$f":"IF(LİSTE!$B27=0,\"\",LİSTE!$B27)","v":""},{"$f":"IF(LİSTE!$B28=0,\"\",LİSTE!$B28)","v":""},{"$f":"IF(LİSTE!$B29=0,\"\",LİSTE!$B29)","v":""},{"$f":"IF(LİSTE!$B30=0,\"\",LİSTE!$B30)","v":""},{"$f":"IF(LİSTE!$B31=0,\"\",LİSTE!$B31)","v":""},{"$f":"IF(LİSTE!$B32=0,\"\",LİSTE!$B32)","v":""},{"$f":"IF(LİSTE!$B33=0,\"\",LİSTE!$B33)","v":""},{"$f":"IF(LİSTE!$B34=0,\"\",LİSTE!$B34)","v":""},{"$f":"IF(LİSTE!$B35=0,\"\",LİSTE!$B35)","v":""},{"$f":"IF(LİSTE!$B36=0,\"\",LİSTE!$B36)","v":""},{"$f":"IF(LİSTE!$B37=0,\"\",LİSTE!$B37)","v":""}]
[null,"KAZANIMLAR",{"$f":"IF(LİSTE!$A2=0,\"\",LİSTE!$A2)","v":1},{"$f":"IF(LİSTE!$A3=0,\"\",LİSTE!$A3)","v":2},{"$f":"IF(LİSTE!$A4=0,\"\",LİSTE!$A4)","v":3},{"$f":"IF(LİSTE!$A5=0,\"\",LİSTE!$A5)","v":4},{"$f":"IF(LİSTE!$A6=0,\"\",LİSTE!$A6)","v":5},{"$f":"IF(LİSTE!$A7=0,\"\",LİSTE!$A7)","v":6},{"$f":"IF(LİSTE!$A8=0,\"\",LİSTE!$A8)","v":7},{"$f":"IF(LİSTE!$A9=0,\"\",LİSTE!$A9)","v":8},{"$f":"IF(LİSTE!$A10=0,\"\",LİSTE!$A10)","v":9},{"$f":"IF(LİSTE!$A11=0,\"\",LİSTE!$A11)","v":10},{"$f":"IF(LİSTE!$A12=0,\"\",LİSTE!$A12)","v":11},{"$f":"IF(LİSTE!$A13=0,\"\",LİSTE!$A13)","v":12},{"$f":"IF(LİSTE!$A14=0,\"\",LİSTE!$A14)","v":13},{"$f":"IF(LİSTE!$A15=0,\"\",LİSTE!$A15)","v":14},{"$f":"IF(LİSTE!$A16=0,\"\",LİSTE!$A16)","v":15},{"$f":"IF(LİSTE!$A17=0,\"\",LİSTE!$A17)","v":16},{"$f":"IF(LİSTE!$A18=0,\"\",LİSTE!$A18)","v":17},{"$f":"IF(LİSTE!$A19=0,\"\",LİSTE!$A19)","v":18},{"$f":"IF(LİSTE!$A20=0,\"\",LİSTE!$A20)","v":19},{"$f":"IF(LİSTE!$A21=0,\"\",LİSTE!$A21)","v":20},{"$f":"IF(LİSTE!$A22=0,\"\",LİSTE!$A22)","v":21},{"$f":"IF(LİSTE!$A23=0,\"\",LİSTE!$A23)","v":22},{"$f":"IF(LİSTE!$A24=0,\"\",LİSTE!$A24)","v":23},{"$f":"IF(LİSTE!$A25=0,\"\",LİSTE!$A25)","v":24},{"$f":"IF(LİSTE!$A26=0,\"\",LİSTE!$A26)","v":25},{"$f":"IF(LİSTE!$A27=0,\"\",LİSTE!$A27)","v":26},{"$f":"IF(LİSTE!$A28=0,\"\",LİSTE!$A28)","v":27},{"$f":"IF(LİSTE!$A29=0,\"\",LİSTE!$A29)","v":28},{"$f":"IF(LİSTE!$A30=0,\"\",LİSTE!$A30)","v":29},{"$f":"IF(LİSTE!$A31=0,\"\",LİSTE!$A31)","v":30},{"$f":"IF(LİSTE!$A32=0,\"\",LİSTE!$A32)","v":31},{"$f":"IF(LİSTE!$A33=0,\"\",LİSTE!$A33)","v":32},{"$f":"IF(LİSTE!$A34=0,\"\",LİSTE!$A34)","v":33},{"$f":"IF(LİSTE!$A35=0,\"\",LİSTE!$A35)","v":""},{"$f":"IF(LİSTE!$A36=0,\"\",LİSTE!$A36)","v":""},{"$f":"IF(LİSTE!$A37=0,\"\",LİSTE!$A37)","v":""}]
[null,"Uzamsal (durum, yer, yön) ilişkileri ifade eder.",3,3,3,3,3,3,3,3,3,3,3,3,3,3,3,3,3,3,3,3,3,3,3,3,3,3,3,3,3,3,3,3,3,3,3,3]
[null,"Eş nesnelere örnekler verir.",3,3,3,3,3,3,3,3,3,3,3,3,3,3,3,3,3,3,3,3,3,3,3,3,3,3,3,3,3,3,3,3,3,3,3,3]
[null,"Nesneleri kütleleri yönünden karşılaştırır ve sıralar.",3,3,3,3,3,3,3,3,3,3,3,3,3,3,3,3,3,3,3,3,3,3,3,3,3,3,3,3,3,3,3,3,3,3,3,3]
[null,"Rakamları okur ve yazar.",3,3,3,3,3,3,3,3,3,3,3,3,3,3,3,3,3,3,3,3,3,3,3,3,3,3,3,3,3,3,3,3,3,3,3,3]
[null,"Nesne sayısı 20’ye kadar (20 dâhil) olan bir topluluktaki nesnelerin sayısını belirler ve bu sayıyı rakamla yazar.",3,3,3,3,3,3,3,3,3,3,3,3,3,3,3,3,3,3,3,3,3,3,3,3,3,3,3,3,3,3,3,3,3,3,3,3]
[null,"100’e kadar (100 dâhil) ileriye doğru birer, beşer ve onar ritmik sayar.",3,3,3,3,3,3,3,3,3,3,3,3,3,3,3,3,3,3,3,3,3,3,3,3,3,3,3,3,3,3,3,3,3,3,3,3]
[null,"M.1.1.1.4. 20’ye kadar (20 dâhil) ikişer ileriye, birer ve ikişer geriye sayar.",3,3,3,3,3,3,3,3,3,3,3,3,3,3,3,3,3,3,3,3,3,3,3,3,3,3,3,3,3,3,3,3,3,3,3,3]
[null,"Nesne sayıları 20’den az olan iki gruptaki nesneleri birebir eşler ve grupların nesne sayılarını karşılaştırır.",3,3,3,3,3,3,3,3,3,3,3,3,3,3,3,3,3,3,3,3,3,3,3,3,3,3,3,3,3,3,3,3,3,3,3,3]
[null,"20’ye kadar (20 dâhil) olan sayılarda verilen bir sayıyı, büyüklük-küçüklük bakımından 10 sayısı ile karşılaştırır.",3,3,3,3,3,3,3,3,3,3,3,3,3,3,3,3,3,3,3,3,3,3,3,3,3,3,3,3,3,3,3,3,3,3,3,3]
[null,"Miktarı 10 ile 20 (10 ve 20 dâhil) arasında olan bir grup nesneyi, onluk ve birliklerine ayırarak gösterir, bu nesnelere karşılık gelen sayıyı rakamlarla yazar ve okur.",3,3,3,3,3,3,3,3,3,3,3,3,3,3,3,3,3,3,3,3,3,3,3,3,3,3,3,3,3,3,3,3,3,3,3,3]
[null," 20’ye kadar (20 dâhil) olan sayıları sıra bildirmek amacıyla kullanır.",3,3,3,3,3,3,3,3,3,3,3,3,3,3,3,3,3,3,3,3,3,3,3,3,3,3,3,3,3,3,3,3,3,3,3,3]
[null,"Toplama işleminin anlamını kavrar.",3,3,3,3,3,3,3,3,3,3,3,3,3,3,3,3,3,3,3,3,3,3,3,3,3,3,3,3,3,3,3,3,3,3,3,3]
[null,"Toplamları 20’ye kadar (20 dâhil) olan doğal sayılarla toplama işlemini yapar.",3,3,3,3,3,3,3,3,3,3,3,3,3,3,3,3,3,3,3,3,3,3,3,3,3,3,3,3,3,3,3,3,3,3,3,3]
[null,"Toplama işleminde toplananların yerleri değiştiğinde toplamın değişmediğini fark eder.",3,3,3,3,3,3,3,3,3,3,3,3,3,3,3,3,3,3,3,3,3,3,3,3,3,3,3,3,3,3,3,3,3,3,3,3]
[null,"Çıkarma işleminin anlamını kavrar.",3,3,3,3,3,3,3,3,3,3,3,3,3,3,3,3,3,3,3,3,3,3,3,3,3,3,3,3,3,3,3,3,3,3,3,3]
[null,"20’ye kadar (20 dâhil) olan doğal sayılarla çıkarma işlemi yapar.",3,3,3,3,3,3,3,3,3,3,3,3,3,3,3,3,3,3,3,3,3,3,3,3,3,3,3,3,3,3,3,3,3,3,3,3]
[null,"SONUÇ",{"$f":"IFERROR(ROUND(AVERAGE(C4:C19),0),\"\")","v":3},3,3,3,3,3,3,3,3,3,3,3,3,3,3,3,3,3,3,3,3,3,3,3,3,3,3,3,3,3,3,3,3,3,3,3]
[null,null,{"$f":"IF(C20=\"\",\"\",IF(C20<1.5,\"Geliştirilmeli\",IF(C20>2.44,\"Çok İyi\",\"İyi\")))","v":"Çok İyi"},{"$f":"IF(D20=\"\",\"\",IF(D20<1.5,\"Geliştirilmeli\",IF(D20>2.44,\"Çok İyi\",\"İyi\")))","v":"Çok İyi"},"Çok İyi","Çok İyi","Çok İyi","Çok İyi","Çok İyi","Çok İyi","Çok İyi","Çok İyi","Çok İyi","Çok İyi","Çok İyi","Çok İyi","Çok İyi","Çok İyi","Çok İyi","Çok İyi","Çok İyi","Çok İyi","Çok İyi","Çok İyi","Çok İyi","Çok İyi","Çok İyi","Çok İyi","Çok İyi","Çok İyi","Çok İyi","Çok İyi","Çok İyi","Çok İyi","Çok İyi","Çok İyi","Çok İyi","Çok İyi"]
[]
[null,null,null,null,null,null,null,null,null,null,null,null,null,null,null,null,null,null,null,null,null,null,null,null,null,null,{"$f":"LİSTE!D5","v":0}]
[null,null,null,null,null,null,null,null,null,null,null,null,null,null,null,null,null,null,null,null,null,null,null,null,null,{"$f":"CONCATENATE(LİSTE!D6,\" \",\"SINIF ÖĞRETMENİ\")","v":" SINIF ÖĞRETMENİ"}]

{"sheet":"HB","index":3,"n_rows":35,"n_cols":38,"rows_kept":35,"cut":false,"hidden":false,"merged":[[34,25,34,31],[30,1,31,1],[32,2,32,9],[32,10,32,13],[33,26,33,30]]}
[null,"BU SATIRDAN ÖĞRENCİNİN NOTUNU TAKİP EDEBİLİRSİNİZ è",{"$f":"C32","v":"Çok İyi"},{"$f":"D32","v":"Çok İyi"},"Çok İyi","Çok İyi","Çok İyi","Çok İyi","Çok İyi","Çok İyi","Çok İyi","Çok İyi","Çok İyi","Çok İyi","Çok İyi","Çok İyi","Çok İyi","Çok İyi","Çok İyi","Çok İyi","Çok İyi","Çok İyi","Çok İyi","Çok İyi","Çok İyi","Çok İyi","Çok İyi","Çok İyi","Çok İyi","Çok İyi","Çok İyi","Çok İyi","Çok İyi","Çok İyi","Çok İyi","Çok İyi","Çok İyi","Çok İyi"]
[null,{"$f":"CONCATENATE(\" \",LİSTE!D2,\" \",LİSTE!D3,\" \",\"1.DÖNEM\",\" \",LİSTE!D6,\" \",\"SINIFI\",\" \",\"HAYAT BİLGİSİ DERSİ KAZANIM DEĞERLENDİRME FORMU \")","v":" 2023-2024 EĞİTİM ÖĞRETİM YILI  1.DÖNEM  SINIFI HAYAT BİLGİSİ DERSİ KAZANIM DEĞERLENDİRME FORMU "},{"$f":"IF(LİSTE!$B2=0,\"\",LİSTE!$B2)","v":""},{"$f":"IF(LİSTE!$B3=0,\"\",LİSTE!$B3)","v":""},{"$f":"IF(LİSTE!$B4=0,\"\",LİSTE!$B4)","v":""},{"$f":"IF(LİSTE!$B5=0,\"\",LİSTE!$B5)","v":""},{"$f":"IF(LİSTE!$B6=0,\"\",LİSTE!$B6)","v":""},{"$f":"IF(LİSTE!$B7=0,\"\",LİSTE!$B7)","v":""},{"$f":"IF(LİSTE!$B8=0,\"\",LİSTE!$B8)","v":""},{"$f":"IF(LİSTE!$B9=0,\"\",LİSTE!$B9)","v":""},{"$f":"IF(LİSTE!$B10=0,\"\",LİSTE!$B10)","v":""},{"$f":"IF(LİSTE!$B11=0,\"\",LİSTE!$B11)","v":""},{"$f":"IF(LİSTE!$B12=0,\"\",LİSTE!$B12)","v":""},{"$f":"IF(LİSTE!$B13=0,\"\",LİSTE!$B13)","v":""},{"$f":"IF(LİSTE!$B14=0,\"\",LİSTE!$B14)","v":""},{"$f":"IF(LİSTE!$B15=0,\"\",LİSTE!$B15)","v":""},{"$f":"IF(LİSTE!$B16=0,\"\",LİSTE!$B16)","v":""},{"$f":"IF(LİSTE!$B17=0,\"\",LİSTE!$B17)","v":""},{"$f":"IF(LİSTE!$B18=0,\"\",LİSTE!$B18)","v":""},{"$f":"IF(LİSTE!$B19=0,\"\",LİSTE!$B19)","v":""},{"$f":"IF(LİSTE!$B20=0,\"\",LİSTE!$B20)","v":""},{"$f":"IF(LİSTE!$B21=0,\"\",LİSTE!$B21)","v":""},{"$f":"IF(LİSTE!$B22=0,\"\",LİSTE!$B22)","v":""},{"$f":"IF(LİSTE!$B23=0,\"\",LİSTE!$B23)","v":""},{"$f":"IF(LİSTE!$B24=0,\"\",LİSTE!$B24)","v":""},{"$f":"IF(LİSTE!$B25=0,\"\",LİSTE!$B25)","v":""},{"$f":"IF(LİSTE!$B26=0,\"\",LİSTE!$B26)","v":""},{"$f":"IF(LİSTE!$B27=0,\"\",LİSTE!$B27)","v":""},{"$f":"IF(LİSTE!$B28=0,\"\",LİSTE!$B28)","v":""},{"$f":"IF(LİSTE!$B29=0,\"\",LİSTE!$B29)","v":""},{"$f":"IF(LİSTE!$B30=0,\"\",LİSTE!$B30)","v":""},{"$f":"IF(LİSTE!$B31=0,\"\",LİSTE!$B31)","v":""},{"$f":"IF(LİSTE!$B32=0,\"\",LİSTE!$B32)","v":""},{"$f":"IF(LİSTE!$B33=0,\"\",LİSTE!$B33)","v":""},{"$f":"IF(LİSTE!$B34=0,\"\",LİSTE!$B34)","v":""},{"$f":"IF(LİSTE!$B35=0,\"\",LİSTE!$B35)","v":""},{"$f":"IF(LİSTE!$B36=0,\"\",LİSTE!$B36)","v":""},{"$f":"IF(LİSTE!$B37=0,\"\",LİSTE!$B37)","v":""}]
[null,"KAZANIMLAR",{"$f":"IF(LİSTE!$A2=0,\"\",LİSTE!$A2)","v":1},{"$f":"IF(LİSTE!$A3=0,\"\",LİSTE!$A3)","v":2},{"$f":"IF(LİSTE!$A4=0,\"\",LİSTE!$A4)","v":3},{"$f":"IF(LİSTE!$A5=0,\"\",LİSTE!$A5)","v":4},{"$f":"IF(LİSTE!$A6=0,\"\",LİSTE!$A6)","v":5},{"$f":"IF(LİSTE!$A7=0,\"\",LİSTE!$A7)","v":6},{"$f":"IF(LİSTE!$A8=0,\"\",LİSTE!$A8)","v":7},{"$f":"IF(LİSTE!$A9=0,\"\",LİSTE!$A9)","v":8},{"$f":"IF(LİSTE!$A10=0,\"\",LİSTE!$A10)","v":9},{"$f":"IF(LİSTE!$A11=0,\"\",LİSTE!$A11)","v":10},{"$f":"IF(LİSTE!$A12=0,\"\",LİSTE!$A12)","v":11},{"$f":"IF(LİSTE!$A13=0,\"\",LİSTE!$A13)","v":12},{"$f":"IF(LİSTE!$A14=0,\"\",LİSTE!$A14)","v":13},{"$f":"IF(LİSTE!$A15=0,\"\",LİSTE!$A15)","v":14},{"$f":"IF(LİSTE!$A16=0,\"\",LİSTE!$A16)","v":15},{"$f":"IF(LİSTE!$A17=0,\"\",LİSTE!$A17)","v":16},{"$f":"IF(LİSTE!$A18=0,\"\",LİSTE!$A18)","v":17},{"$f":"IF(LİSTE!$A19=0,\"\",LİSTE!$A19)","v":18},{"$f":"IF(LİSTE!$A20=0,\"\",LİSTE!$A20)","v":19},{"$f":"IF(LİSTE!$A21=0,\"\",LİSTE!$A21)","v":20},{"$f":"IF(LİSTE!$A22=0,\"\",LİSTE!$A22)","v":21},{"$f":"IF(LİSTE!$A23=0,\"\",LİSTE!$A23)","v":22},{"$f":"IF(LİSTE!$A24=0,\"\",LİSTE!$A24)","v":23},{"$f":"IF(LİSTE!$A25=0,\"\",LİSTE!$A25)","v":24},{"$f":"IF(LİSTE!$A26=0,\"\",LİSTE!$A26)","v":25},{"$f":"IF(LİSTE!$A27=0,\"\",LİSTE!$A27)","v":26},{"$f":"IF(LİSTE!$A28=0,\"\",LİSTE!$A28)","v":27},{"$f":"IF(LİSTE!$A29=0,\"\",LİSTE!$A29)","v":28},{"$f":"IF(LİSTE!$A30=0,\"\",LİSTE!$A30)","v":29},{"$f":"IF(LİSTE!$A31=0,\"\",LİSTE!$A31)","v":30},{"$f":"IF(LİSTE!$A32=0,\"\",LİSTE!$A32)","v":31},{"$f":"IF(LİSTE!$A33=0,\"\",LİSTE!$A33)","v":32},{"$f":"IF(LİSTE!$A34=0,\"\",LİSTE!$A34)","v":33},{"$f":"IF(LİSTE!$A35=0,\"\",LİSTE!$A35)","v":""},{"$f":"IF(LİSTE!$A36=0,\"\",LİSTE!$A36)","v":""},{"$f":"IF(LİSTE!$A37=0,\"\",LİSTE!$A37)","v":""}]
[null,"Sınıf içi tanışma etkinliğine katılır.",3,3,3,3,3,3,3,3,3,3,3,3,3,3,3,3,3,3,3,3,3,3,3,3,3,3,3,3,3,3,3,3,3,3,3,3]
[null,"Kendisiyle akranları arasındaki benzer ve farklı yönleri ayırt eder.",3,3,3,3,3,3,3,3,3,3,3,3,3,3,3,3,3,3,3,3,3,3,3,3,3,3,3,3,3,3,3,3,3,3,3,3]
[null,"Okula geliş ve okuldan gidişlerde güvenlik kurallarına uyar.",3,3,3,3,3,3,3,3,3,3,3,3,3,3,3,3,3,3,3,3,3,3,3,3,3,3,3,3,3,3,3,3,3,3,3,3]
[null,"Sınıfının okul içindeki yerini bulur.",3,3,3,3,3,3,3,3,3,3,3,3,3,3,3,3,3,3,3,3,3,3,3,3,3,3,3,3,3,3,3,3,3,3,3,3]
[null,"Sınıf içerisinde bulunan ders araç ve gereçleri ile şeref köşesini tanır.",3,3,3,3,3,3,3,3,3,3,3,3,3,3,3,3,3,3,3,3,3,3,3,3,3,3,3,3,3,3,3,3,3,3,3,3]
[null,"Bayrak töreninde nasıl davranması gerektiğini kavrar.",3,3,3,3,3,3,3,3,3,3,3,3,3,3,3,3,3,3,3,3,3,3,3,3,3,3,3,3,3,3,3,3,3,3,3,3]
[null,"Okulunun bölümlerini tanır.",3,3,3,3,3,3,3,3,3,3,3,3,3,3,3,3,3,3,3,3,3,3,3,3,3,3,3,3,3,3,3,3,3,3,3,3]
[null,"Tuvalet kullanma ve temizlik alışkanlığı geliştirir.",3,3,3,3,3,3,3,3,3,3,3,3,3,3,3,3,3,3,3,3,3,3,3,3,3,3,3,3,3,3,3,3,3,3,3,3]
[null,"Okul çalışanlarını tanır.",3,3,3,3,3,3,3,3,3,3,3,3,3,3,3,3,3,3,3,3,3,3,3,3,3,3,3,3,3,3,3,3,3,3,3,3]
[null," İhtiyaç duyduğu durumlarda okul çalışanlarından yardım alır.",3,3,3,3,3,3,3,3,3,3,3,3,3,3,3,3,3,3,3,3,3,3,3,3,3,3,3,3,3,3,3,3,3,3,3,3]
[null,"Sınıf içi kuralları belirleme sürecine katılır.",3,3,3,3,3,3,3,3,3,3,3,3,3,3,3,3,3,3,3,3,3,3,3,3,3,3,3,3,3,3,3,3,3,3,3,3]
[null,"Bayram, kutlama ve törenlere katılmaya istekli olur.",3,3,3,3,3,3,3,3,3,3,3,3,3,3,3,3,3,3,3,3,3,3,3,3,3,3,3,3,3,3,3,3,3,3,3,3]
[null,"Okul kurallarına uyar.",3,3,3,3,3,3,3,3,3,3,3,3,3,3,3,3,3,3,3,3,3,3,3,3,3,3,3,3,3,3,3,3,3,3,3,3]
[null,"Okulda iletişim kurarken nezaket kurallarına uyar.",3,3,3,3,3,3,3,3,3,3,3,3,3,3,3,3,3,3,3,3,3,3,3,3,3,3,3,3,3,3,3,3,3,3,3,3]
[null,"Okul içi etkinliklerde görev almaya istekli olur.",3,3,3,3,3,3,3,3,3,3,3,3,3,3,3,3,3,3,3,3,3,3,3,3,3,3,3,3,3,3,3,3,3,3,3,3]
[null,"Oyunlara katılmaya ve oyun oynamaya istekli olur.",3,3,3,3,3,3,3,3,3,3,3,3,3,3,3,3,3,3,3,3,3,3,3,3,3,3,3,3,3,3,3,3,3,3,3,3]
[null,"Okulla ilgili olumlu duygu ve düşünceler geliştirir.",3,3,3,3,3,3,3,3,3,3,3,3,3,3,3,3,3,3,3,3,3,3,3,3,3,3,3,3,3,3,3,3,3,3,3,3]
[null,"Kullanacağı ders araç ve gereçlerini seçer.",3,3,3,3,3,3,3,3,3,3,3,3,3,3,3,3,3,3,3,3,3,3,3,3,3,3,3,3,3,3,3,3,3,3,3,3]
[null," Aile bireylerini tanıtır.",3,3,3,3,3,3,3,3,3,3,3,3,3,3,3,3,3,3,3,3,3,3,3,3,3,3,3,3,3,3,3,3,3,3,3,3]
[null,"Aile hayatının önemini kavrar.",3,3,3,3,3,3,3,3,3,3,3,3,3,3,3,3,3,3,3,3,3,3,3,3,3,3,3,3,3,3,3,3,3,3,3,3]
[null,"Evinin yerini tarif eder.",3,3,3,3,3,3,3,3,3,3,3,3,3,3,3,3,3,3,3,3,3,3,3,3,3,3,3,3,3,3,3,3,3,3,3,3]
[null,"Evde aile bireyleri ile iletişim kurarken nezaket kurallarına uyar.",3,3,3,3,3,3,3,3,3,3,3,3,3,3,3,3,3,3,3,3,3,3,3,3,3,3,3,3,3,3,3,3,3,3,3,3]
[null,"Evdeki kaynakları verimli bir şekilde kullanır.",3,3,3,3,3,3,3,3,3,3,3,3,3,3,3,3,3,3,3,3,3,3,3,3,3,3,3,3,3,3,3,3,3,3,3,3]
[null,"Gün içerisinde neler yapabileceğini planlar.",3,3,3,3,3,3,3,3,3,3,3,3,3,3,3,3,3,3,3,3,3,3,3,3,3,3,3,3,3,3,3,3,3,3,3,3]
[null,"İstek ve ihtiyaçları arasındaki farkı ayırt eder.",3,3,3,3,3,3,3,3,3,3,3,3,3,3,3,3,3,3,3,3,3,3,3,3,3,3,3,3,3,3,3,3,3,3,3,3]
[null,"Kişisel bakımını düzenli olarak yapar.",3,3,3,3,3,3,3,3,3,3,3,3,3,3,3,3,3,3,3,3,3,3,3,3,3,3,3,3,3,3,3,3,3,3,3,3]
[null,"Sağlığını korumak için alması gereken önlemleri fark eder.",3,3,3,3,3,3,3,3,3,3,3,3,3,3,3,3,3,3,3,3,3,3,3,3,3,3,3,3,3,3,3,3,3,3,3,3]
[null,"SONUÇ",{"$f":"IFERROR(ROUND(AVERAGE(C4:C30),0),\"\")","v":3},{"$f":"IFERROR(ROUND(AVERAGE(D4:D30),0),\"\")","v":3},3,3,3,3,3,3,3,3,3,3,3,3,3,3,3,3,3,3,3,3,3,3,3,3,3,3,3,3,3,3,3,3,3,3]
[null,null,{"$f":"IF(C31=\"\",\"\",IF(C31<1.5,\"Geliştirilmeli\",IF(C31>2.44,\"Çok İyi\",\"İyi\")))","v":"Çok İyi"},{"$f":"IF(D31=\"\",\"\",IF(D31<1.5,\"Geliştirilmeli\",IF(D31>2.44,\"Çok İyi\",\"İyi\")))","v":"Çok İyi"},"Çok İyi","Çok İyi","Çok İyi","Çok İyi","Çok İyi","Çok İyi","Çok İyi","Çok İyi","Çok İyi","Çok İyi","Çok İyi","Çok İyi","Çok İyi","Çok İyi","Çok İyi","Çok İyi","Çok İyi","Çok İyi","Çok İyi","Çok İyi","Çok İyi","Çok İyi","Çok İyi","Çok İyi","Çok İyi","Çok İyi","Çok İyi","Çok İyi","Çok İyi","Çok İyi","Çok İyi","Çok İyi","Çok İyi","Çok İyi"]
[]
[null,null,null,null,null,null,null,null,null,null,null,null,null,null,null,null,null,null,null,null,null,null,null,null,null,null,{"$f":"LİSTE!D5","v":0}]
[null,null,null,null,null,null,null,null,null,null,null,null,null,null,null,null,null,null,null,null,null,null,null,null,null,{"$f":"CONCATENATE(LİSTE!D6,\" \",\"SINIF ÖĞRETMENİ\")","v":" SINIF ÖĞRETMENİ"}]

{"sheet":"O","index":4,"n_rows":24,"n_cols":38,"rows_kept":24,"cut":false,"hidden":false,"merged":[[19,1,20,1],[21,2,21,9],[21,10,21,13],[22,26,22,30],[23,25,23,31]]}
[null,"BU SATIRDAN ÖĞRENCİNİN NOTUNU TAKİP EDEBİLİRSİNİZ è",{"$f":"C21","v":"Çok İyi"},{"$f":"D21","v":"Çok İyi"},"Çok İyi","Çok İyi","Çok İyi","Çok İyi","Çok İyi","Çok İyi","Çok İyi","Çok İyi","Çok İyi","Çok İyi","Çok İyi","Çok İyi","Çok İyi","Çok İyi","Çok İyi","Çok İyi","Çok İyi","Çok İyi","Çok İyi","Çok İyi","Çok İyi","Çok İyi","Çok İyi","Çok İyi","Çok İyi","Çok İyi","Çok İyi","Çok İyi","Çok İyi","Çok İyi","Çok İyi","","",""]
[null,{"$f":"CONCATENATE(\" \",LİSTE!D2,\" \",LİSTE!D3,\" \",\"1.DÖNEM\",\" \",LİSTE!D6,\" \",\"SINIFI\",\" \",\"BEDEN EĞİTİMİ VE OYUN DERSİ KAZANIM DEĞERLENDİRME FORMU \")","v":" 2023-2024 EĞİTİM ÖĞRETİM YILI  1.DÖNEM  SINIFI BEDEN EĞİTİMİ VE OYUN DERSİ KAZANIM DEĞERLENDİRME FORMU "},{"$f":"IF(LİSTE!$B2=0,\"\",LİSTE!$B2)","v":""},{"$f":"IF(LİSTE!$B3=0,\"\",LİSTE!$B3)","v":""},{"$f":"IF(LİSTE!$B4=0,\"\",LİSTE!$B4)","v":""},{"$f":"IF(LİSTE!$B5=0,\"\",LİSTE!$B5)","v":""},{"$f":"IF(LİSTE!$B6=0,\"\",LİSTE!$B6)","v":""},{"$f":"IF(LİSTE!$B7=0,\"\",LİSTE!$B7)","v":""},{"$f":"IF(LİSTE!$B8=0,\"\",LİSTE!$B8)","v":""},{"$f":"IF(LİSTE!$B9=0,\"\",LİSTE!$B9)","v":""},{"$f":"IF(LİSTE!$B10=0,\"\",LİSTE!$B10)","v":""},{"$f":"IF(LİSTE!$B11=0,\"\",LİSTE!$B11)","v":""},{"$f":"IF(LİSTE!$B12=0,\"\",LİSTE!$B12)","v":""},{"$f":"IF(LİSTE!$B13=0,\"\",LİSTE!$B13)","v":""},{"$f":"IF(LİSTE!$B14=0,\"\",LİSTE!$B14)","v":""},{"$f":"IF(LİSTE!$B15=0,\"\",LİSTE!$B15)","v":""},{"$f":"IF(LİSTE!$B16=0,\"\",LİSTE!$B16)","v":""},{"$f":"IF(LİSTE!$B17=0,\"\",LİSTE!$B17)","v":""},{"$f":"IF(LİSTE!$B18=0,\"\",LİSTE!$B18)","v":""},{"$f":"IF(LİSTE!$B19=0,\"\",LİSTE!$B19)","v":""},{"$f":"IF(LİSTE!$B20=0,\"\",LİSTE!$B20)","v":""},{"$f":"IF(LİSTE!$B21=0,\"\",LİSTE!$B21)","v":""},{"$f":"IF(LİSTE!$B22=0,\"\",LİSTE!$B22)","v":""},{"$f":"IF(LİSTE!$B23=0,\"\",LİSTE!$B23)","v":""},{"$f":"IF(LİSTE!$B24=0,\"\",LİSTE!$B24)","v":""},{"$f":"IF(LİSTE!$B25=0,\"\",LİSTE!$B25)","v":""},{"$f":"IF(LİSTE!$B26=0,\"\",LİSTE!$B26)","v":""},{"$f":"IF(LİSTE!$B27=0,\"\",LİSTE!$B27)","v":""},{"$f":"IF(LİSTE!$B28=0,\"\",LİSTE!$B28)","v":""},{"$f":"IF(LİSTE!$B29=0,\"\",LİSTE!$B29)","v":""},{"$f":"IF(LİSTE!$B30=0,\"\",LİSTE!$B30)","v":""},{"$f":"IF(LİSTE!$B31=0,\"\",LİSTE!$B31)","v":""},{"$f":"IF(LİSTE!$B32=0,\"\",LİSTE!$B32)","v":""},{"$f":"IF(LİSTE!$B33=0,\"\",LİSTE!$B33)","v":""},{"$f":"IF(LİSTE!$B34=0,\"\",LİSTE!$B34)","v":""},{"$f":"IF(LİSTE!$B35=0,\"\",LİSTE!$B35)","v":""},{"$f":"IF(LİSTE!$B36=0,\"\",LİSTE!$B36)","v":""},{"$f":"IF(LİSTE!$B37=0,\"\",LİSTE!$B37)","v":""}]
[null,"KAZANIMLAR",{"$f":"IF(LİSTE!$A2=0,\"\",LİSTE!$A2)","v":1},{"$f":"IF(LİSTE!$A3=0,\"\",LİSTE!$A3)","v":2},{"$f":"IF(LİSTE!$A4=0,\"\",LİSTE!$A4)","v":3},{"$f":"IF(LİSTE!$A5=0,\"\",LİSTE!$A5)","v":4},{"$f":"IF(LİSTE!$A6=0,\"\",LİSTE!$A6)","v":5},{"$f":"IF(LİSTE!$A7=0,\"\",LİSTE!$A7)","v":6},{"$f":"IF(LİSTE!$A8=0,\"\",LİSTE!$A8)","v":7},{"$f":"IF(LİSTE!$A9=0,\"\",LİSTE!$A9)","v":8},{"$f":"IF(LİSTE!$A10=0,\"\",LİSTE!$A10)","v":9},{"$f":"IF(LİSTE!$A11=0,\"\",LİSTE!$A11)","v":10},{"$f":"IF(LİSTE!$A12=0,\"\",LİSTE!$A12)","v":11},{"$f":"IF(LİSTE!$A13=0,\"\",LİSTE!$A13)","v":12},{"$f":"IF(LİSTE!$A14=0,\"\",LİSTE!$A14)","v":13},{"$f":"IF(LİSTE!$A15=0,\"\",LİSTE!$A15)","v":14},{"$f":"IF(LİSTE!$A16=0,\"\",LİSTE!$A16)","v":15},{"$f":"IF(LİSTE!$A17=0,\"\",LİSTE!$A17)","v":16},{"$f":"IF(LİSTE!$A18=0,\"\",LİSTE!$A18)","v":17},{"$f":"IF(LİSTE!$A19=0,\"\",LİSTE!$A19)","v":18},{"$f":"IF(LİSTE!$A20=0,\"\",LİSTE!$A20)","v":19},{"$f":"IF(LİSTE!$A21=0,\"\",LİSTE!$A21)","v":20},{"$f":"IF(LİSTE!$A22=0,\"\",LİSTE!$A22)","v":21},{"$f":"IF(LİSTE!$A23=0,\"\",LİSTE!$A23)","v":22},{"$f":"IF(LİSTE!$A24=0,\"\",LİSTE!$A24)","v":23},{"$f":"IF(LİSTE!$A25=0,\"\",LİSTE!$A25)","v":24},{"$f":"IF(LİSTE!$A26=0,\"\",LİSTE!$A26)","v":25},{"$f":"IF(LİSTE!$A27=0,\"\",LİSTE!$A27)","v":26},{"$f":"IF(LİSTE!$A28=0,\"\",LİSTE!$A28)","v":27},{"$f":"IF(LİSTE!$A29=0,\"\",LİSTE!$A29)","v":28},{"$f":"IF(LİSTE!$A30=0,\"\",LİSTE!$A30)","v":29},{"$f":"IF(LİSTE!$A31=0,\"\",LİSTE!$A31)","v":30},{"$f":"IF(LİSTE!$A32=0,\"\",LİSTE!$A32)","v":31},{"$f":"IF(LİSTE!$A33=0,\"\",LİSTE!$A33)","v":32},{"$f":"IF(LİSTE!$A34=0,\"\",LİSTE!$A34)","v":33},{"$f":"IF(LİSTE!$A35=0,\"\",LİSTE!$A35)","v":""},{"$f":"IF(LİSTE!$A36=0,\"\",LİSTE!$A36)","v":""},{"$f":"IF(LİSTE!$A37=0,\"\",LİSTE!$A37)","v":""}]
[null,"Yer değiştirme hareketlerini yapar.",3,3,3,3,3,3,3,3,3,3,3,3,3,3,3,3,3,3,3,3,3,3,3,3,3,3,3,3,3,3,3,3,3]
[null,"Dengeleme hareketlerini yapar.",3,3,3,3,3,3,3,3,3,3,3,3,3,3,3,3,3,3,3,3,3,3,3,3,3,3,3,3,3,3,3,3,3]
[null,"Nesne kontrolü gerektiren hareketleri yapar.",3,3,3,3,3,3,3,3,3,3,3,3,3,3,3,3,3,3,3,3,3,3,3,3,3,3,3,3,3,3,3,3,3]
[null,"İki ve daha fazla hareket becerisini içeren basit kurallı oyunlar oynar.",3,3,3,3,3,3,3,3,3,3,3,3,3,3,3,3,3,3,3,3,3,3,3,3,3,3,3,3,3,3,3,3,3]
[null,"Ritim ve müzik eşliğinde hareket eder.",3,3,3,3,3,3,3,3,3,3,3,3,3,3,3,3,3,3,3,3,3,3,3,3,3,3,3,3,3,3,3,3,3]
[null,"Bayram, kutlama ve törenlere katılır.",3,3,3,3,3,3,3,3,3,3,3,3,3,3,3,3,3,3,3,3,3,3,3,3,3,3,3,3,3,3,3,3,3]
[null,"Vücut bölümlerinin hareketlerini tanımlar.",3,3,3,3,3,3,3,3,3,3,3,3,3,3,3,3,3,3,3,3,3,3,3,3,3,3,3,3,3,3,3,3,3]
[null,"Kişisel ve genel alanını fark eder.",3,3,3,3,3,3,3,3,3,3,3,3,3,3,3,3,3,3,3,3,3,3,3,3,3,3,3,3,3,3,3,3,3]
[null,"Verilen bir dizi hareketi, temel hareket beceri gruplarından uygun olanla ilişkilendirir.",3,3,3,3,3,3,3,3,3,3,3,3,3,3,3,3,3,3,3,3,3,3,3,3,3,3,3,3,3,3,3,3,3]
[null,"Oyunu belirlenen kurallara göre oynar.",3,3,3,3,3,3,3,3,3,3,3,3,3,3,3,3,3,3,3,3,3,3,3,3,3,3,3,3,3,3,3,3,3]
[null,"Temel hareketleri yaparken dengesini sağlamak için stratejiler geliştirir.",3,3,3,3,3,3,3,3,3,3,3,3,3,3,3,3,3,3,3,3,3,3,3,3,3,3,3,3,3,3,3,3,3]
[null,"Oyunda kullanılan basit stratejileri tanımlar.",3,3,3,3,3,3,3,3,3,3,3,3,3,3,3,3,3,3,3,3,3,3,3,3,3,3,3,3,3,3,3,3,3]
[null,"Sağlık ile oyun ve fiziki etkinlikler arasındaki ilişkiyi açıklar.",3,3,3,3,3,3,3,3,3,3,3,3,3,3,3,3,3,3,3,3,3,3,3,3,3,3,3,3,3,3,3,3,3]
[null,"Oyun ve fiziki etkinliklere katılırken vücudunda meydana gelen değişiklikleri açıklar.",3,3,3,3,3,3,3,3,3,3,3,3,3,3,3,3,3,3,3,3,3,3,3,3,3,3,3,3,3,3,3,3,3]
[null,"Oyun ve fiziki etkinliklere katılırken sağlığını korumak ve güvenliği için dikkat etmesi gereken unsurları söyler.",3,3,3,3,3,3,3,3,3,3,3,3,3,3,3,3,3,3,3,3,3,3,3,3,3,3,3,3,3,3,3,3,3]
[null,"Oyun ve fiziki etkinliklere katılırken dengeli ve düzenli beslenme alışkanlığı sergiler.",3,3,3,3,3,3,3,3,3,3,3,3,3,3,3,3,3,3,3,3,3,3,3,3,3,3,3,3,3,3,3,3,3]
[null,"SONUÇ",{"$f":"IFERROR(ROUND(AVERAGE(C4:C19),0),\"\")","v":3},{"$f":"IFERROR(ROUND(AVERAGE(D4:D19),0),\"\")","v":3},3,3,3,3,3,3,3,3,3,3,3,3,3,3,3,3,3,3,3,3,3,3,3,3,3,3,3,3,3,3,3,"","",""]
[null,null,{"$f":"IF(C20=\"\",\"\",IF(C20<1.5,\"Geliştirilmeli\",IF(C20>2.44,\"Çok İyi\",\"İyi\")))","v":"Çok İyi"},{"$f":"IF(D20=\"\",\"\",IF(D20<1.5,\"Geliştirilmeli\",IF(D20>2.44,\"Çok İyi\",\"İyi\")))","v":"Çok İyi"},{"$f":"IF(E20=\"\",\"\",IF(E20<1.5,\"Geliştirilmeli\",IF(E20>2.44,\"Çok İyi\",\"İyi\")))","v":"Çok İyi"},"Çok İyi","Çok İyi","Çok İyi","Çok İyi","Çok İyi","Çok İyi","Çok İyi","Çok İyi","Çok İyi","Çok İyi","Çok İyi","Çok İyi","Çok İyi","Çok İyi","Çok İyi","Çok İyi","Çok İyi","Çok İyi","Çok İyi","Çok İyi","Çok İyi","Çok İyi","Çok İyi","Çok İyi","Çok İyi","Çok İyi","Çok İyi","Çok İyi","Çok İyi","Çok İyi","","",""]
[]
[null,null,null,null,null,null,null,null,null,null,null,null,null,null,null,null,null,null,null,null,null,null,null,null,null,null,{"$f":"LİSTE!D5","v":0}]
[null,null,null,null,null,null,null,null,null,null,null,null,null,null,null,null,null,null,null,null,null,null,null,null,null,{"$f":"CONCATENATE(LİSTE!D6,\" \",\"SINIF ÖĞRETMENİ\")","v":" SINIF ÖĞRETMENİ"}]

{"sheet":"MZ","index":5,"n_rows":21,"n_cols":38,"rows_kept":21,"cut":false,"hidden":false,"merged":[[20,25,20,31],[16,1,17,1],[18,2,18,9],[18,10,18,13],[19,26,19,30]]}
[null,"BU SATIRDAN ÖĞRENCİNİN NOTUNU TAKİP EDEBİLİRSİNİZ è",{"$f":"C18","v":"Çok İyi"},{"$f":"D18","v":"Çok İyi"},"Çok İyi","Çok İyi","Çok İyi","Çok İyi","Çok İyi","Çok İyi","Çok İyi","Çok İyi","Çok İyi","Çok İyi","Çok İyi","Çok İyi","Çok İyi","Çok İyi","Çok İyi","Çok İyi","Çok İyi","Çok İyi","Çok İyi","Çok İyi","Çok İyi","Çok İyi","Çok İyi","Çok İyi","Çok İyi","Çok İyi","Çok İyi","Çok İyi","Çok İyi","Çok İyi","Çok İyi","Çok İyi","Çok İyi","Çok İyi"]
[null,{"$f":"CONCATENATE(\" \",LİSTE!D2,\"\",LİSTE!D3,\" \",\"1.DÖNEM\",\" \",LİSTE!D6,\" \",\"SINIFI\",\" \",\"MÜZİK DERSİ KAZANIM DEĞERLENDİRME FORMU \")","v":" 2023-2024 EĞİTİM ÖĞRETİM YILI 1.DÖNEM  SINIFI MÜZİK DERSİ KAZANIM DEĞERLENDİRME FORMU "},{"$f":"IF(LİSTE!$B2=0,\"\",LİSTE!$B2)","v":""},{"$f":"IF(LİSTE!$B3=0,\"\",LİSTE!$B3)","v":""},{"$f":"IF(LİSTE!$B4=0,\"\",LİSTE!$B4)","v":""},{"$f":"IF(LİSTE!$B5=0,\"\",LİSTE!$B5)","v":""},{"$f":"IF(LİSTE!$B6=0,\"\",LİSTE!$B6)","v":""},{"$f":"IF(LİSTE!$B7=0,\"\",LİSTE!$B7)","v":""},{"$f":"IF(LİSTE!$B8=0,\"\",LİSTE!$B8)","v":""},{"$f":"IF(LİSTE!$B9=0,\"\",LİSTE!$B9)","v":""},{"$f":"IF(LİSTE!$B10=0,\"\",LİSTE!$B10)","v":""},{"$f":"IF(LİSTE!$B11=0,\"\",LİSTE!$B11)","v":""},{"$f":"IF(LİSTE!$B12=0,\"\",LİSTE!$B12)","v":""},{"$f":"IF(LİSTE!$B13=0,\"\",LİSTE!$B13)","v":""},{"$f":"IF(LİSTE!$B14=0,\"\",LİSTE!$B14)","v":""},{"$f":"IF(LİSTE!$B15=0,\"\",LİSTE!$B15)","v":""},{"$f":"IF(LİSTE!$B16=0,\"\",LİSTE!$B16)","v":""},{"$f":"IF(LİSTE!$B17=0,\"\",LİSTE!$B17)","v":""},{"$f":"IF(LİSTE!$B18=0,\"\",LİSTE!$B18)","v":""},{"$f":"IF(LİSTE!$B19=0,\"\",LİSTE!$B19)","v":""},{"$f":"IF(LİSTE!$B20=0,\"\",LİSTE!$B20)","v":""},{"$f":"IF(LİSTE!$B21=0,\"\",LİSTE!$B21)","v":""},{"$f":"IF(LİSTE!$B22=0,\"\",LİSTE!$B22)","v":""},{"$f":"IF(LİSTE!$B23=0,\"\",LİSTE!$B23)","v":""},{"$f":"IF(LİSTE!$B24=0,\"\",LİSTE!$B24)","v":""},{"$f":"IF(LİSTE!$B25=0,\"\",LİSTE!$B25)","v":""},{"$f":"IF(LİSTE!$B26=0,\"\",LİSTE!$B26)","v":""},{"$f":"IF(LİSTE!$B27=0,\"\",LİSTE!$B27)","v":""},{"$f":"IF(LİSTE!$B28=0,\"\",LİSTE!$B28)","v":""},{"$f":"IF(LİSTE!$B29=0,\"\",LİSTE!$B29)","v":""},{"$f":"IF(LİSTE!$B30=0,\"\",LİSTE!$B30)","v":""},{"$f":"IF(LİSTE!$B31=0,\"\",LİSTE!$B31)","v":""},{"$f":"IF(LİSTE!$B32=0,\"\",LİSTE!$B32)","v":""},{"$f":"IF(LİSTE!$B33=0,\"\",LİSTE!$B33)","v":""},{"$f":"IF(LİSTE!$B34=0,\"\",LİSTE!$B34)","v":""},{"$f":"IF(LİSTE!$B35=0,\"\",LİSTE!$B35)","v":""},{"$f":"IF(LİSTE!$B36=0,\"\",LİSTE!$B36)","v":""},{"$f":"IF(LİSTE!$B37=0,\"\",LİSTE!$B37)","v":""}]
[null,"KAZANIMLAR",{"$f":"IF(LİSTE!$A2=0,\"\",LİSTE!$A2)","v":1},{"$f":"IF(LİSTE!$A3=0,\"\",LİSTE!$A3)","v":2},{"$f":"IF(LİSTE!$A4=0,\"\",LİSTE!$A4)","v":3},{"$f":"IF(LİSTE!$A5=0,\"\",LİSTE!$A5)","v":4},{"$f":"IF(LİSTE!$A6=0,\"\",LİSTE!$A6)","v":5},{"$f":"IF(LİSTE!$A7=0,\"\",LİSTE!$A7)","v":6},{"$f":"IF(LİSTE!$A8=0,\"\",LİSTE!$A8)","v":7},{"$f":"IF(LİSTE!$A9=0,\"\",LİSTE!$A9)","v":8},{"$f":"IF(LİSTE!$A10=0,\"\",LİSTE!$A10)","v":9},{"$f":"IF(LİSTE!$A11=0,\"\",LİSTE!$A11)","v":10},{"$f":"IF(LİSTE!$A12=0,\"\",LİSTE!$A12)","v":11},{"$f":"IF(LİSTE!$A13=0,\"\",LİSTE!$A13)","v":12},{"$f":"IF(LİSTE!$A14=0,\"\",LİSTE!$A14)","v":13},{"$f":"IF(LİSTE!$A15=0,\"\",LİSTE!$A15)","v":14},{"$f":"IF(LİSTE!$A16=0,\"\",LİSTE!$A16)","v":15},{"$f":"IF(LİSTE!$A17=0,\"\",LİSTE!$A17)","v":16},{"$f":"IF(LİSTE!$A18=0,\"\",LİSTE!$A18)","v":17},{"$f":"IF(LİSTE!$A19=0,\"\",LİSTE!$A19)","v":18},{"$f":"IF(LİSTE!$A20=0,\"\",LİSTE!$A20)","v":19},{"$f":"IF(LİSTE!$A21=0,\"\",LİSTE!$A21)","v":20},{"$f":"IF(LİSTE!$A22=0,\"\",LİSTE!$A22)","v":21},{"$f":"IF(LİSTE!$A23=0,\"\",LİSTE!$A23)","v":22},{"$f":"IF(LİSTE!$A24=0,\"\",LİSTE!$A24)","v":23},{"$f":"IF(LİSTE!$A25=0,\"\",LİSTE!$A25)","v":24},{"$f":"IF(LİSTE!$A26=0,\"\",LİSTE!$A26)","v":25},{"$f":"IF(LİSTE!$A27=0,\"\",LİSTE!$A27)","v":26},{"$f":"IF(LİSTE!$A28=0,\"\",LİSTE!$A28)","v":27},{"$f":"IF(LİSTE!$A29=0,\"\",LİSTE!$A29)","v":28},{"$f":"IF(LİSTE!$A30=0,\"\",LİSTE!$A30)","v":29},{"$f":"IF(LİSTE!$A31=0,\"\",LİSTE!$A31)","v":30},{"$f":"IF(LİSTE!$A32=0,\"\",LİSTE!$A32)","v":31},{"$f":"IF(LİSTE!$A33=0,\"\",LİSTE!$A33)","v":32},{"$f":"IF(LİSTE!$A34=0,\"\",LİSTE!$A34)","v":33},{"$f":"IF(LİSTE!$A35=0,\"\",LİSTE!$A35)","v":""},{"$f":"IF(LİSTE!$A36=0,\"\",LİSTE!$A36)","v":""},{"$f":"IF(LİSTE!$A37=0,\"\",LİSTE!$A37)","v":""}]
[null,"İstiklâl Marşı’nı saygıyla dinler.",3,3,3,3,3,3,3,3,3,3,3,3,3,3,3,3,3,3,3,3,3,3,3,3,3,3,3,3,3,3,3,3,3,3,3,3]
[null,"İstiklâl Marşı’na saygı gösterir.",3,3,3,3,3,3,3,3,3,3,3,3,3,3,3,3,3,3,3,3,3,3,3,3,3,3,3,3,3,3,3,3,3,3,3,3]
[null,"Ses ve nefes çalışmaları yapar.",3,3,3,3,3,3,3,3,3,3,3,3,3,3,3,3,3,3,3,3,3,3,3,3,3,3,3,3,3,3,3,3,3,3,3,3]
[null,"Ses oyunları yapar.",3,3,3,3,3,3,3,3,3,3,3,3,3,3,3,3,3,3,3,3,3,3,3,3,3,3,3,3,3,3,3,3,3,3,3,3]
[null,"Öğrendiği müzikleri birlikte seslendirir.",3,3,3,3,3,3,3,3,3,3,3,3,3,3,3,3,3,3,3,3,3,3,3,3,3,3,3,3,3,3,3,3,3,3,3,3]
[null,"Belirli gün ve haftalarla ilgili müzik etkinliklerine katılır.",3,3,3,3,3,3,3,3,3,3,3,3,3,3,3,3,3,3,3,3,3,3,3,3,3,3,3,3,3,3,3,3,3,3,3,3]
[null,"Çevresindeki ses kaynaklarını ayırt eder.",3,3,3,3,3,3,3,3,3,3,3,3,3,3,3,3,3,3,3,3,3,3,3,3,3,3,3,3,3,3,3,3,3,3,3,3]
[null,"Düzenli ve düzensiz sesleri birbirinden ayırt eder.",3,3,3,3,3,3,3,3,3,3,3,3,3,3,3,3,3,3,3,3,3,3,3,3,3,3,3,3,3,3,3,3,3,3,3,3]
[null," Çevresinde duyduğu sesleri taklit eder.",3,3,3,3,3,3,3,3,3,3,3,3,3,3,3,3,3,3,3,3,3,3,3,3,3,3,3,3,3,3,3,3,3,3,3,3]
[null,"Müzik çalışmalarını gerçekleştirdiği ortamı tanır.",3,3,3,3,3,3,3,3,3,3,3,3,3,3,3,3,3,3,3,3,3,3,3,3,3,3,3,3,3,3,3,3,3,3,3,3]
[null,"Vücudunu ritim çalgısı gibi kullanır.",3,3,3,3,3,3,3,3,3,3,3,3,3,3,3,3,3,3,3,3,3,3,3,3,3,3,3,3,3,3,3,3,3,3,3,3]
[null,"Basit ritmik yapıdaki ezgileri harekete dönüştürür.",3,3,3,3,3,3,3,3,3,3,3,3,3,3,3,3,3,3,3,3,3,3,3,3,3,3,3,3,3,3,3,3,3,3,3,3]
[null,"Oluşturduğu ritim çalgısıyla öğrendiği müziklere eşlik eder.",3,3,3,3,3,3,3,3,3,3,3,3,3,3,3,3,3,3,3,3,3,3,3,3,3,3,3,3,3,3,3,3,3,3,3,3]
[null,"SONUÇ",{"$f":"IFERROR(ROUND(AVERAGE(C4:C16),0),\"\")","v":3},{"$f":"IFERROR(ROUND(AVERAGE(D4:D16),0),\"\")","v":3},3,3,3,3,3,3,3,3,3,3,3,3,3,3,3,3,3,3,3,3,3,3,3,3,3,3,3,3,3,3,3,3,3,3]
[null,null,{"$f":"IF(C17=\"\",\"\",IF(C17<1.5,\"Geliştirilmeli\",IF(C17>2.44,\"Çok İyi\",\"İyi\")))","v":"Çok İyi"},{"$f":"IF(D17=\"\",\"\",IF(D17<1.5,\"Geliştirilmeli\",IF(D17>2.44,\"Çok İyi\",\"İyi\")))","v":"Çok İyi"},{"$f":"IF(E17=\"\",\"\",IF(E17<1.5,\"Geliştirilmeli\",IF(E17>2.44,\"Çok İyi\",\"İyi\")))","v":"Çok İyi"},"Çok İyi","Çok İyi","Çok İyi","Çok İyi","Çok İyi","Çok İyi","Çok İyi","Çok İyi","Çok İyi","Çok İyi","Çok İyi","Çok İyi","Çok İyi","Çok İyi","Çok İyi","Çok İyi","Çok İyi","Çok İyi","Çok İyi","Çok İyi","Çok İyi","Çok İyi","Çok İyi","Çok İyi","Çok İyi","Çok İyi","Çok İyi","Çok İyi","Çok İyi","Çok İyi","Çok İyi","Çok İyi","Çok İyi"]
[]
[null,null,null,null,null,null,null,null,null,null,null,null,null,null,null,null,null,null,null,null,null,null,null,null,null,null,{"$f":"LİSTE!D5","v":0}]
[null,null,null,null,null,null,null,null,null,null,null,null,null,null,null,null,null,null,null,null,null,null,null,null,null,{"$f":"CONCATENATE(LİSTE!D6,\" \",\"SINIF ÖĞRETMENİ\")","v":" SINIF ÖĞRETMENİ"}]

{"sheet":"G1","index":6,"n_rows":15,"n_cols":38,"rows_kept":15,"cut":false,"hidden":false,"merged":[[14,25,14,31],[10,1,11,1],[12,2,12,9],[12,10,12,13],[13,26,13,30]]}
[null,"BU SATIRDAN ÖĞRENCİNİN NOTUNU TAKİP EDEBİLİRSİNİZ è",{"$f":"C12","v":"Çok İyi"},"Çok İyi","Çok İyi","Çok İyi","Çok İyi","Çok İyi","Çok İyi","Çok İyi","Çok İyi","Çok İyi","Çok İyi","Çok İyi","Çok İyi","Çok İyi","Çok İyi","Çok İyi","Çok İyi","Çok İyi","Çok İyi","Çok İyi","Çok İyi","Çok İyi","Çok İyi","Çok İyi","Çok İyi","Çok İyi","Çok İyi","Çok İyi","Çok İyi","Çok İyi","Çok İyi","Çok İyi","Çok İyi","Çok İyi","Çok İyi","Çok İyi"]
[null,{"$f":"CONCATENATE(\" \",LİSTE!D2,\" \",LİSTE!D3,\" \",\"1.DÖNEM\",\" \",LİSTE!D6,\" \",\"SINIFI\",\" \",\"GÖRSEL SANATLAR DERSİ KAZANIM DEĞERLENDİRME FORMU \")","v":" 2023-2024 EĞİTİM ÖĞRETİM YILI  1.DÖNEM  SINIFI GÖRSEL SANATLAR DERSİ KAZANIM DEĞERLENDİRME FORMU "},{"$f":"IF(LİSTE!$B2=0,\"\",LİSTE!$B2)","v":""},{"$f":"IF(LİSTE!$B3=0,\"\",LİSTE!$B3)","v":""},{"$f":"IF(LİSTE!$B4=0,\"\",LİSTE!$B4)","v":""},{"$f":"IF(LİSTE!$B5=0,\"\",LİSTE!$B5)","v":""},{"$f":"IF(LİSTE!$B6=0,\"\",LİSTE!$B6)","v":""},{"$f":"IF(LİSTE!$B7=0,\"\",LİSTE!$B7)","v":""},{"$f":"IF(LİSTE!$B8=0,\"\",LİSTE!$B8)","v":""},{"$f":"IF(LİSTE!$B9=0,\"\",LİSTE!$B9)","v":""},{"$f":"IF(LİSTE!$B10=0,\"\",LİSTE!$B10)","v":""},{"$f":"IF(LİSTE!$B11=0,\"\",LİSTE!$B11)","v":""},{"$f":"IF(LİSTE!$B12=0,\"\",LİSTE!$B12)","v":""},{"$f":"IF(LİSTE!$B13=0,\"\",LİSTE!$B13)","v":""},{"$f":"IF(LİSTE!$B14=0,\"\",LİSTE!$B14)","v":""},{"$f":"IF(LİSTE!$B15=0,\"\",LİSTE!$B15)","v":""},{"$f":"IF(LİSTE!$B16=0,\"\",LİSTE!$B16)","v":""},{"$f":"IF(LİSTE!$B17=0,\"\",LİSTE!$B17)","v":""},{"$f":"IF(LİSTE!$B18=0,\"\",LİSTE!$B18)","v":""},{"$f":"IF(LİSTE!$B19=0,\"\",LİSTE!$B19)","v":""},{"$f":"IF(LİSTE!$B20=0,\"\",LİSTE!$B20)","v":""},{"$f":"IF(LİSTE!$B21=0,\"\",LİSTE!$B21)","v":""},{"$f":"IF(LİSTE!$B22=0,\"\",LİSTE!$B22)","v":""},{"$f":"IF(LİSTE!$B23=0,\"\",LİSTE!$B23)","v":""},{"$f":"IF(LİSTE!$B24=0,\"\",LİSTE!$B24)","v":""},{"$f":"IF(LİSTE!$B25=0,\"\",LİSTE!$B25)","v":""},{"$f":"IF(LİSTE!$B26=0,\"\",LİSTE!$B26)","v":""},{"$f":"IF(LİSTE!$B27=0,\"\",LİSTE!$B27)","v":""},{"$f":"IF(LİSTE!$B28=0,\"\",LİSTE!$B28)","v":""},{"$f":"IF(LİSTE!$B29=0,\"\",LİSTE!$B29)","v":""},{"$f":"IF(LİSTE!$B30=0,\"\",LİSTE!$B30)","v":""},{"$f":"IF(LİSTE!$B31=0,\"\",LİSTE!$B31)","v":""},{"$f":"IF(LİSTE!$B32=0,\"\",LİSTE!$B32)","v":""},{"$f":"IF(LİSTE!$B33=0,\"\",LİSTE!$B33)","v":""},{"$f":"IF(LİSTE!$B34=0,\"\",LİSTE!$B34)","v":""},{"$f":"IF(LİSTE!$B35=0,\"\",LİSTE!$B35)","v":""},{"$f":"IF(LİSTE!$B36=0,\"\",LİSTE!$B36)","v":""},{"$f":"IF(LİSTE!$B37=0,\"\",LİSTE!$B37)","v":""}]
[null,"KAZANIMLAR",{"$f":"IF(LİSTE!$A2=0,\"\",LİSTE!$A2)","v":1},{"$f":"IF(LİSTE!$A3=0,\"\",LİSTE!$A3)","v":2},{"$f":"IF(LİSTE!$A4=0,\"\",LİSTE!$A4)","v":3},{"$f":"IF(LİSTE!$A5=0,\"\",LİSTE!$A5)","v":4},{"$f":"IF(LİSTE!$A6=0,\"\",LİSTE!$A6)","v":5},{"$f":"IF(LİSTE!$A7=0,\"\",LİSTE!$A7)","v":6},{"$f":"IF(LİSTE!$A8=0,\"\",LİSTE!$A8)","v":7},{"$f":"IF(LİSTE!$A9=0,\"\",LİSTE!$A9)","v":8},{"$f":"IF(LİSTE!$A10=0,\"\",LİSTE!$A10)","v":9},{"$f":"IF(LİSTE!$A11=0,\"\",LİSTE!$A11)","v":10},{"$f":"IF(LİSTE!$A12=0,\"\",LİSTE!$A12)","v":11},{"$f":"IF(LİSTE!$A13=0,\"\",LİSTE!$A13)","v":12},{"$f":"IF(LİSTE!$A14=0,\"\",LİSTE!$A14)","v":13},{"$f":"IF(LİSTE!$A15=0,\"\",LİSTE!$A15)","v":14},{"$f":"IF(LİSTE!$A16=0,\"\",LİSTE!$A16)","v":15},{"$f":"IF(LİSTE!$A17=0,\"\",LİSTE!$A17)","v":16},{"$f":"IF(LİSTE!$A18=0,\"\",LİSTE!$A18)","v":17},{"$f":"IF(LİSTE!$A19=0,\"\",LİSTE!$A19)","v":18},{"$f":"IF(LİSTE!$A20=0,\"\",LİSTE!$A20)","v":19},{"$f":"IF(LİSTE!$A21=0,\"\",LİSTE!$A21)","v":20},{"$f":"IF(LİSTE!$A22=0,\"\",LİSTE!$A22)","v":21},{"$f":"IF(LİSTE!$A23=0,\"\",LİSTE!$A23)","v":22},{"$f":"IF(LİSTE!$A24=0,\"\",LİSTE!$A24)","v":23},{"$f":"IF(LİSTE!$A25=0,\"\",LİSTE!$A25)","v":24},{"$f":"IF(LİSTE!$A26=0,\"\",LİSTE!$A26)","v":25},{"$f":"IF(LİSTE!$A27=0,\"\",LİSTE!$A27)","v":26},{"$f":"IF(LİSTE!$A28=0,\"\",LİSTE!$A28)","v":27},{"$f":"IF(LİSTE!$A29=0,\"\",LİSTE!$A29)","v":28},{"$f":"IF(LİSTE!$A30=0,\"\",LİSTE!$A30)","v":29},{"$f":"IF(LİSTE!$A31=0,\"\",LİSTE!$A31)","v":30},{"$f":"IF(LİSTE!$A32=0,\"\",LİSTE!$A32)","v":31},{"$f":"IF(LİSTE!$A33=0,\"\",LİSTE!$A33)","v":32},{"$f":"IF(LİSTE!$A34=0,\"\",LİSTE!$A34)","v":33},{"$f":"IF(LİSTE!$A35=0,\"\",LİSTE!$A35)","v":""},{"$f":"IF(LİSTE!$A36=0,\"\",LİSTE!$A36)","v":""},{"$f":"IF(LİSTE!$A37=0,\"\",LİSTE!$A37)","v":""}]
[null,"Görsel sanat çalışmalarını oluştururken uygulama basamaklarını ifade eder.",3,3,3,3,3,3,3,3,3,3,3,3,3,3,3,3,3,3,3,3,3,3,3,3,3,3,3,3,3,3,3,3,3,3,3,3]
[null,"Görsel sanat çalışmalarında farklı materyal, malzeme, gereç ve teknikleri kullanır.",3,3,3,3,3,3,3,3,3,3,3,3,3,3,3,3,3,3,3,3,3,3,3,3,3,3,3,3,3,3,3,3,3,3,3,3]
[null,"Duygu ve düşüncelerini görsel sanat çalışmasına yansıtır.",3,3,3,3,3,3,3,3,3,3,3,3,3,3,3,3,3,3,3,3,3,3,3,3,3,3,3,3,3,3,3,3,3,3,3,3]
[null,"Görsel sanat çalışmalarını temalardan, konulardan, fikirlerden, şiirlerden, hikâyelerden esinlenerek oluşturur.",3,3,3,3,3,3,3,3,3,3,3,3,3,3,3,3,3,3,3,3,3,3,3,3,3,3,3,3,3,3,3,3,3,3,3,3]
[null,"İki boyutlu yüzey üzerinde biçimleri düzenler.",3,3,3,3,3,3,3,3,3,3,3,3,3,3,3,3,3,3,3,3,3,3,3,3,3,3,3,3,3,3,3,3,3,3,3,3]
[null,"Görsel sanat çalışmasında figür-mekân ilişkisini ifade eder.",3,3,3,3,3,3,3,3,3,3,3,3,3,3,3,3,3,3,3,3,3,3,3,3,3,3,3,3,3,3,3,3,3,3,3,3]
[null,"Görsel sanat çalışmasında büyüklük-küçüklük ilişkilerini kullanır.",3,3,3,3,3,3,3,3,3,3,3,3,3,3,3,3,3,3,3,3,3,3,3,3,3,3,3,3,3,3,3,3,3,3,3,3]
[null,"SONUÇ",{"$f":"IFERROR(ROUND(AVERAGE(C4:C10),0),\"\")","v":3},3,3,3,3,3,3,3,3,3,3,3,3,3,3,3,3,3,3,3,3,3,3,3,3,3,3,3,3,3,3,3,3,3,3,3]
[null,null,{"$f":"IF(C11=\"\",\"\",IF(C11<1.5,\"Geliştirilmeli\",IF(C11>2.44,\"Çok İyi\",\"İyi\")))","v":"Çok İyi"},{"$f":"IF(D11=\"\",\"\",IF(D11<1.5,\"Geliştirilmeli\",IF(D11>2.44,\"Çok İyi\",\"İyi\")))","v":"Çok İyi"},"Çok İyi","Çok İyi","Çok İyi","Çok İyi","Çok İyi","Çok İyi","Çok İyi","Çok İyi","Çok İyi","Çok İyi","Çok İyi","Çok İyi","Çok İyi","Çok İyi","Çok İyi","Çok İyi","Çok İyi","Çok İyi","Çok İyi","Çok İyi","Çok İyi","Çok İyi","Çok İyi","Çok İyi","Çok İyi","Çok İyi","Çok İyi","Çok İyi","Çok İyi","Çok İyi","Çok İyi","Çok İyi","Çok İyi","Çok İyi"]
[]
[null,null,null,null,null,null,null,null,null,null,null,null,null,null,null,null,null,null,null,null,null,null,null,null,null,null,{"$f":"LİSTE!D5","v":0}]
[null,null,null,null,null,null,null,null,null,null,null,null,null,null,null,null,null,null,null,null,null,null,null,null,null,{"$f":"CONCATENATE(LİSTE!D6,\" \",\"SINIF ÖĞRETMENİ\")","v":" SINIF ÖĞRETMENİ"}]